BEGIN:VCALENDAR
VERSION:2.0
PRODID:-//Kensington Street - ECPv6.15.11//NONSGML v1.0//EN
CALSCALE:GREGORIAN
METHOD:PUBLISH
X-ORIGINAL-URL:https://www.kensingtonstreet.com.au
X-WR-CALDESC:Events for Kensington Street
REFRESH-INTERVAL;VALUE=DURATION:PT1H
X-Robots-Tag:noindex
X-PUBLISHED-TTL:PT1H
BEGIN:VTIMEZONE
TZID:Australia/Sydney
BEGIN:STANDARD
TZOFFSETFROM:+1100
TZOFFSETTO:+1000
TZNAME:AEST
DTSTART:20240406T160000
END:STANDARD
BEGIN:DAYLIGHT
TZOFFSETFROM:+1000
TZOFFSETTO:+1100
TZNAME:AEDT
DTSTART:20241005T160000
END:DAYLIGHT
BEGIN:STANDARD
TZOFFSETFROM:+1100
TZOFFSETTO:+1000
TZNAME:AEST
DTSTART:20250405T160000
END:STANDARD
BEGIN:DAYLIGHT
TZOFFSETFROM:+1000
TZOFFSETTO:+1100
TZNAME:AEDT
DTSTART:20251004T160000
END:DAYLIGHT
BEGIN:STANDARD
TZOFFSETFROM:+1100
TZOFFSETTO:+1000
TZNAME:AEST
DTSTART:20260404T160000
END:STANDARD
BEGIN:DAYLIGHT
TZOFFSETFROM:+1000
TZOFFSETTO:+1100
TZNAME:AEDT
DTSTART:20261003T160000
END:DAYLIGHT
BEGIN:STANDARD
TZOFFSETFROM:+1100
TZOFFSETTO:+1000
TZNAME:AEST
DTSTART:20270403T160000
END:STANDARD
BEGIN:DAYLIGHT
TZOFFSETFROM:+1000
TZOFFSETTO:+1100
TZNAME:AEDT
DTSTART:20271002T160000
END:DAYLIGHT
END:VTIMEZONE
BEGIN:VEVENT
DTSTART;TZID=Australia/Sydney:20251022T170000
DTEND;TZID=Australia/Sydney:20260131T210000
DTSTAMP:20260422T233701
CREATED:20251014T031030Z
LAST-MODIFIED:20251112T040614Z
UID:19079-1761152400-1769893200@www.kensingtonstreet.com.au
SUMMARY:Pasta & Wine Nights | La Terrazza
DESCRIPTION:Pasta & Wine Night – Every WednesdayEvery Wednesday at La Terrazza in Chippendale\, join us for Pasta & Wine Night. Each week our chefs create a brand-new\, fresh pasta special\, paired perfectly with a glass of wine — all for $35. \nThese weekly creations aren’t on the regular menu\, making each night a unique culinary experience. Perfect for a midweek treat\, whether you’re catching up with friends or indulging in a little self-care. BOOK NOW
URL:https://www.kensingtonstreet.com.au/event/pastawinenightsydney/
LOCATION:La Terrazza Osteria Verde\, Level 2\, The Old Rum Store 2-10 Kensington Street\, Chippendale\, NSW\, 2008\, Australia
CATEGORIES:Specials
ATTACH;FMTTYPE=image/png:https://www.kensingtonstreet.com.au/wp-content/uploads/2025/10/LaTerrazza_WhatsOnBanners_1200x800_1.png
END:VEVENT
END:VCALENDAR