BEGIN:VCALENDAR
VERSION:2.0
PRODID:-//Kensington Street - ECPv6.15.11//NONSGML v1.0//EN
CALSCALE:GREGORIAN
METHOD:PUBLISH
X-ORIGINAL-URL:https://www.kensingtonstreet.com.au
X-WR-CALDESC:Events for Kensington Street
REFRESH-INTERVAL;VALUE=DURATION:PT1H
X-Robots-Tag:noindex
X-PUBLISHED-TTL:PT1H
BEGIN:VTIMEZONE
TZID:Australia/Sydney
BEGIN:STANDARD
TZOFFSETFROM:+1100
TZOFFSETTO:+1000
TZNAME:AEST
DTSTART:20250405T160000
END:STANDARD
BEGIN:DAYLIGHT
TZOFFSETFROM:+1000
TZOFFSETTO:+1100
TZNAME:AEDT
DTSTART:20251004T160000
END:DAYLIGHT
BEGIN:STANDARD
TZOFFSETFROM:+1100
TZOFFSETTO:+1000
TZNAME:AEST
DTSTART:20260404T160000
END:STANDARD
BEGIN:DAYLIGHT
TZOFFSETFROM:+1000
TZOFFSETTO:+1100
TZNAME:AEDT
DTSTART:20261003T160000
END:DAYLIGHT
BEGIN:STANDARD
TZOFFSETFROM:+1100
TZOFFSETTO:+1000
TZNAME:AEST
DTSTART:20270403T160000
END:STANDARD
BEGIN:DAYLIGHT
TZOFFSETFROM:+1000
TZOFFSETTO:+1100
TZNAME:AEDT
DTSTART:20271002T160000
END:DAYLIGHT
END:VTIMEZONE
BEGIN:VEVENT
DTSTART;VALUE=DATE:20260401
DTEND;VALUE=DATE:20260630
DTSTAMP:20260424T010428
CREATED:20250808T044908Z
LAST-MODIFIED:20260422T010957Z
UID:18722-1775001600-1782777599@www.kensingtonstreet.com.au
SUMMARY:Gin Lane - Weekly Specials
DESCRIPTION:WEEKLY SPECIALS AT GIN LANE!Warm up with us all week long at Gin Lane with live music\, DJs\, and delicious seasonal drinks! \nHere’s what’s happening: \nMondays\nMargarita Mondays -$15 Margs and $30 Min Marg platters + more! 6-9pm \nTuesdays\n“Tight Tiki Tuesdays” $14 cocktails and all night Happy Hour \nThursdays\nLive Thursdays with Tanqueray 10-live music 6-9pm Happy Hour 430-6pm + all night drinks specials \nFriday/Saturdays\nStreet DJs 5-8pm + Happy Hour 4-6pm \nSundays\nSpritz Sundays 5-8pm\n$15 Select Spritz BOOK NOW
URL:https://www.kensingtonstreet.com.au/event/ginlanespecials/
LOCATION:Gin Lane\, 16 Kensington Street\, Chippendale\, NSW\, 2008
CATEGORIES:Gin Lane,Specials
ATTACH;FMTTYPE=image/jpeg:https://www.kensingtonstreet.com.au/wp-content/uploads/2025/08/GL_WhatsON.jpg
END:VEVENT
END:VCALENDAR